BEGIN:VCALENDAR
VERSION:2.0
PRODID:-//Library Market//iCal Export//EN
BEGIN:VEVENT
SUMMARY:Taller de Piñatas - Despertar Latino
UID:8993
DTSTAMP:20260419T233900Z
DTSTART:20260420T213000Z
DTEND:20260420T233000Z
LOCATION:118 W Washington St, West Chicago, IL 60185, United States
ROOM: Program Room
DESCRIPTION:¡Crea, decora y diviértete!Acompaña a tus hijas e hijos a c
 rear su propia piñata para el Día del Niño. Un taller práctico, creati
 vo y lleno de color para toda la familia. This is a reservation made by a
 n external group. All members of the public are welcome to join.For more i
 nformation about the Meeting Room or our policies, visit wcpld.info/librar
 y-governance/policies/ and check the facilities drop down menu. The Meetin
 g Room Policy &amp; Application is also directly available here.Use of the
  Library meeting room does not constitute endorsement or approval of the o
 rganization, this program or its content by the West Chicago Public Librar
 y District.
URL:https://wcpld.librarycalendar.com/event/pinata-workshop-despertar-lati
 no-8993
END:VEVENT
END:VCALENDAR
